BEGIN:VCALENDAR
VERSION:2.0
PRODID:-//https://circhive.eu//NONSGML iCalcreator 2.41.92//
CALSCALE:GREGORIAN
METHOD:PUBLISH
UID:63383731-6162-4662-b334-346138323234
X-WR-RELCALID:node-18036-field_event_date
X-WR-TIMEZONE:Europe/Brussels
X-WR-CALNAME:Transform Food & Agriculture Europe 2026
BEGIN:VTIMEZONE
TZID:Europe/Brussels
TZUNTIL:20280326T010000Z
BEGIN:STANDARD
TZNAME:CET
DTSTART:20251026T030000
TZOFFSETFROM:+0200
TZOFFSETTO:+0100
RDATE:20261025T030000
RDATE:20271031T030000
END:STANDARD
BEGIN:DAYLIGHT
TZNAME:CEST
DTSTART:20260329T020000
TZOFFSETFROM:+0100
TZOFFSETTO:+0200
RDATE:20270328T020000
END:DAYLIGHT
END:VTIMEZONE
BEGIN:VEVENT
UID:36656133-6164-4330-b733-303033623731
DTSTAMP:20260422T143039Z
CATEGORIES:Transform Food & Agriculture Europe 2026
CLASS:PUBLIC
CREATED:20251030T150334Z
DESCRIPTION:Accelerating Transformation: Advancing Resilience in Food Syste
 ms
DTSTART;TZID=Europe/Brussels:20260602T000000
DTEND;TZID=Europe/Brussels:20260603T235900
LAST-MODIFIED:20251030T151216Z
SUMMARY:Transform Food & Agriculture Europe 2026
TRANSP:OPAQUE
END:VEVENT
END:VCALENDAR
