BEGIN:VCALENDAR
VERSION:2.0
PRODID:-//https://circhive.eu//NONSGML iCalcreator 2.41.92//
CALSCALE:GREGORIAN
METHOD:PUBLISH
UID:61666631-3039-4432-b630-633862623937
X-WR-RELCALID:node-18399-field_event_date
X-WR-TIMEZONE:Europe/Brussels
X-WR-CALNAME:World Biodiversity Forum: Leading Transformation Together
BEGIN:VTIMEZONE
TZID:Europe/Brussels
TZUNTIL:20280326T010000Z
BEGIN:STANDARD
TZNAME:CET
DTSTART:20251026T030000
TZOFFSETFROM:+0200
TZOFFSETTO:+0100
RDATE:20261025T030000
RDATE:20271031T030000
END:STANDARD
BEGIN:DAYLIGHT
TZNAME:CEST
DTSTART:20260329T020000
TZOFFSETFROM:+0100
TZOFFSETTO:+0200
RDATE:20270328T020000
END:DAYLIGHT
END:VTIMEZONE
BEGIN:VEVENT
UID:31343832-6333-4833-b936-303737363730
DTSTAMP:20260422T171627Z
CATEGORIES:World Biodiversity Forum: Leading Transformation Together
CLASS:PUBLIC
CREATED:20260112T063110Z
DESCRIPTION:On 14–19 June\, join the World Biodiversity Forum 2026 in Davos
 \, Switzerland.
DTSTART;TZID=Europe/Brussels:20260614T000000
DTEND;TZID=Europe/Brussels:20260619T235900
LAST-MODIFIED:20260112T073534Z
SUMMARY:World Biodiversity Forum: Leading Transformation Together
TRANSP:OPAQUE
END:VEVENT
END:VCALENDAR
