BEGIN:VCALENDAR
VERSION:2.0
PRODID:-//https://circhive.eu//NONSGML iCalcreator 2.41.92//
CALSCALE:GREGORIAN
METHOD:PUBLISH
UID:30326339-6163-4262-b966-393430313162
X-WR-RELCALID:node-18401-field_event_date
X-WR-TIMEZONE:Europe/Brussels
X-WR-CALNAME:COP17 (UN Biodiversity Conference)
BEGIN:VTIMEZONE
TZID:Europe/Brussels
TZUNTIL:20281029T010000Z
BEGIN:STANDARD
TZNAME:CET
DTSTART:20251026T030000
TZOFFSETFROM:+0200
TZOFFSETTO:+0100
RDATE:20261025T030000
RDATE:20271031T030000
END:STANDARD
BEGIN:DAYLIGHT
TZNAME:CEST
DTSTART:20260329T020000
TZOFFSETFROM:+0100
TZOFFSETTO:+0200
RDATE:20270328T020000
RDATE:20280326T020000
END:DAYLIGHT
END:VTIMEZONE
BEGIN:VEVENT
UID:31326361-3737-4463-b930-393836636163
DTSTAMP:20260422T153146Z
CATEGORIES:COP17 (UN Biodiversity Conference)
CLASS:PUBLIC
CREATED:20260112T072504Z
DESCRIPTION:19–30 October\, join COP17 in Yerevan\, Armenia.
DTSTART;TZID=Europe/Brussels:20261018T220000
DTEND;TZID=Europe/Brussels:20261030T205900
LAST-MODIFIED:20260112T073644Z
SUMMARY:COP17 (UN Biodiversity Conference)
TRANSP:OPAQUE
END:VEVENT
END:VCALENDAR
